BEGIN:VCALENDAR
VERSION:2.0
PRODID:-//Sutton Traditional Fiddle - ECPv6.15.20//NONSGML v1.0//EN
CALSCALE:GREGORIAN
METHOD:PUBLISH
X-WR-CALNAME:Sutton Traditional Fiddle
X-ORIGINAL-URL:https://violontraditionnelsutton.com/en/
X-WR-CALDESC:Events for Sutton Traditional Fiddle
REFRESH-INTERVAL;VALUE=DURATION:PT1H
X-Robots-Tag:noindex
X-PUBLISHED-TTL:PT1H
BEGIN:VTIMEZONE
TZID:America/Toronto
BEGIN:DAYLIGHT
TZOFFSETFROM:-0500
TZOFFSETTO:-0400
TZNAME:EDT
DTSTART:20250309T070000
END:DAYLIGHT
BEGIN:STANDARD
TZOFFSETFROM:-0400
TZOFFSETTO:-0500
TZNAME:EST
DTSTART:20251102T060000
END:STANDARD
BEGIN:DAYLIGHT
TZOFFSETFROM:-0500
TZOFFSETTO:-0400
TZNAME:EDT
DTSTART:20260308T070000
END:DAYLIGHT
BEGIN:STANDARD
TZOFFSETFROM:-0400
TZOFFSETTO:-0500
TZNAME:EST
DTSTART:20261101T060000
END:STANDARD
BEGIN:DAYLIGHT
TZOFFSETFROM:-0500
TZOFFSETTO:-0400
TZNAME:EDT
DTSTART:20270314T070000
END:DAYLIGHT
BEGIN:STANDARD
TZOFFSETFROM:-0400
TZOFFSETTO:-0500
TZNAME:EST
DTSTART:20271107T060000
END:STANDARD
END:VTIMEZONE
BEGIN:VEVENT
DTSTART;TZID=America/Toronto:20260530T130000
DTEND;TZID=America/Toronto:20260530T140000
DTSTAMP:20260425T102758
CREATED:20260425T004710Z
LAST-MODIFIED:20260425T004924Z
UID:15498-1780146000-1780149600@violontraditionnelsutton.com
SUMMARY:Annual General Meeting
DESCRIPTION:MUSIQUE ET TRADITIONS ILLIMITÉES\nAnnual General Meeting
URL:https://violontraditionnelsutton.com/en/evenement/annual-general-meeting/
LOCATION:Hôtel de ville de Sutton\, 11\, rue Principale Sud\, Sutton\, QC\, J0E2K0\, Canada
CATEGORIES:Other
ATTACH;FMTTYPE=image/png:https://violontraditionnelsutton.com/wp-content/uploads/2020/06/cropped-logo_violon_icone-du-site.png
END:VEVENT
END:VCALENDAR